BEGIN:VCALENDAR
VERSION:2.0
PRODID:-//Squarespace Inc/Squarespace 6//v6//EN
BEGIN:VEVENT
UID:5c10279d03ce642769548ab0@squarespace.com
DTSTAMP:20181211T211003Z
DTSTART:20190126T200000Z
DTEND:20190127T020000Z
SUMMARY:Seaside Market - Ngamotu Beach
GEO:-39.060501;174.040375
LOCATION:Ocean Parade\, Ngamotu Beach\, New Plymouth
END:VEVENT
END:VCALENDAR
