BEGIN:VCALENDAR
VERSION:2.0
PRODID:-//Squarespace Inc/Squarespace 6//v6//EN
BEGIN:VEVENT
UID:5bf8531388251b85d9e04242@squarespace.com
DTSTAMP:20181123T193403Z
DTSTART:20190504T210000Z
DTEND:20190505T030000Z
SUMMARY:Seaside Market - Ngamotu Beach
GEO:40.720756;-74.000761
LOCATION:Ocean Parade\, Ngamotu Beach\, New Plymouth
END:VEVENT
END:VCALENDAR
