BEGIN:VCALENDAR
VERSION:2.0
PRODID:-//Squarespace Inc/Squarespace 6//v6//EN
BEGIN:VEVENT
UID:5bf85274575d1f90eb748e0f@squarespace.com
DTSTAMP:20181123T193324Z
DTSTART:20190209T200000Z
DTEND:20190210T020000Z
SUMMARY:Seaside Market - Ngamotu Beach
GEO:40.720756;-74.000761
LOCATION:Ocean Parade\, Ngamotu Beach\, New Plymouth
END:VEVENT
END:VCALENDAR
